-0.00000000000000
-0.09000000000000
-0.09000000000000
0.00000000000000
694681.67429001839000
233112.17704086981000
