-0.00000000000000
-0.09000000000000
-0.09000000000000
0.00000000000000
694693.67429001839000
236573.17704086981000
