-0.00000000000000
-0.09000000000000
-0.09000000000000
0.00000000000000
694657.67429001839000
239776.17704086981000
