-0.00000000000000
-0.09000000000000
-0.09000000000000
0.00000000000000
694669.67429001839000
240923.17704086981000
