-0.00000000000000
-0.09000000000000
-0.09000000000000
0.00000000000000
694677.67429001839000
241530.17704086981000
