-0.00000000000000
-0.09000000000000
-0.09000000000000
0.00000000000000
694673.67429001839000
244665.17704086981000
