0.00000000000000
0.09000000000000
0.09000000000000
-0.00000000000000
691837.32570998161000
227038.82295913019000
