0.00000000000000
0.09000000000000
0.09000000000000
-0.00000000000000
691843.32570998161000
230673.82295913019000
