0.00000000000000
0.09000000000000
0.09000000000000
-0.00000000000000
691858.32570998161000
231346.82295913019000
