0.00000000000000
0.09000000000000
0.09000000000000
-0.00000000000000
691821.32570998161000
238996.82295913019000
