0.00000000000000
0.09000000000000
0.09000000000000
-0.00000000000000
691827.32570998161000
241493.82295913019000
