0.00000000000000
0.09000000000000
0.09000000000000
-0.00000000000000
691824.32570998161000
242799.82295913019000
