0.00000000000000
0.09000000000000
0.09000000000000
-0.00000000000000
691854.32570998161000
244661.82295913019000
