0.00000000000000
0.09000000000000
0.09000000000000
-0.00000000000000
691844.32570998161000
248950.82295913019000
