0.00000000000000
0.09000000000000
0.09000000000000
-0.00000000000000
691847.32570998161000
250098.82295913019000
