-0.00000000000000
-0.09000000000000
-0.09000000000000
0.00000000000000
692496.67429001839000
226540.17704086981000
