-0.00000000000000
-0.09000000000000
-0.09000000000000
0.00000000000000
692484.67429001839000
228282.17704086981000
