-0.00000000000000
-0.09000000000000
-0.09000000000000
0.00000000000000
692488.67429001839000
236654.17704086981000
