-0.00000000000000
-0.09000000000000
-0.09000000000000
0.00000000000000
692470.67429001839000
242022.17704086981000
