-0.00000000000000
-0.09000000000000
-0.09000000000000
0.00000000000000
692462.67429001839000
244022.17704086981000
