0.00000000000000
0.09000000000000
0.09000000000000
-0.00000000000000
689644.32570998161000
225676.82295913019000
