0.00000000000000
0.09000000000000
0.09000000000000
-0.00000000000000
689652.32570998161000
228288.82295913019000
