0.00000000000000
0.09000000000000
0.09000000000000
-0.00000000000000
689646.32570998161000
228788.82295913019000
