0.00000000000000
0.09000000000000
0.09000000000000
-0.00000000000000
689638.32570998161000
231139.82295913019000
