0.00000000000000
0.09000000000000
0.09000000000000
-0.00000000000000
689626.32570998161000
241175.82295913019000
