0.00000000000000
0.09000000000000
0.09000000000000
-0.00000000000000
689640.32570998161000
245470.82295913019000
