-0.00000000000000
-0.10000000000000
-0.10000000000000
0.00000000000000
716610.55013099301000
242223.19906995021000
