0.00000000000000
0.10000000000000
0.10000000000000
-0.00000000000000
713639.44986900699000
247208.80093004979000
