-0.00000000000000
-0.10000000000000
-0.10000000000000
0.00000000000000
714409.55013099301000
237233.19906995021000
