-0.00000000000000
-0.10000000000000
-0.10000000000000
0.00000000000000
714401.55013099301000
240841.19906995021000
