0.00000000000000
0.10000000000000
0.10000000000000
-0.00000000000000
711523.44986900699000
233665.80093004979000
