0.00000000000000
0.10000000000000
0.10000000000000
-0.00000000000000
711516.44986900699000
234483.80093004979000
