0.00000000000000
0.10000000000000
0.10000000000000
-0.00000000000000
711503.44986900699000
235250.80093004979000
