0.00000000000000
0.10000000000000
0.10000000000000
-0.00000000000000
711495.44986900699000
240143.80093004979000
