0.00000000000000
0.10000000000000
0.10000000000000
-0.00000000000000
711488.44986900699000
242923.80093004979000
