0.00000000000000
0.10000000000000
0.10000000000000
-0.00000000000000
711478.44986900699000
245468.80093004979000
