0.00000000000000
0.10000000000000
0.10000000000000
-0.00000000000000
711490.44986900699000
250231.80093004979000
