-0.00000000000000
-0.10000000000000
-0.10000000000000
0.00000000000000
712218.55013099301000
236170.19906995021000
