-0.00000000000000
-0.10000000000000
-0.10000000000000
0.00000000000000
712210.55013099301000
238845.19906995021000
