-0.00000000000000
-0.10000000000000
-0.10000000000000
0.00000000000000
712194.55013099301000
242643.19906995021000
