-0.00000000000000
-0.10000000000000
-0.10000000000000
0.00000000000000
712186.55013099301000
244512.19906995021000
