-0.00000000000000
-0.10000000000000
-0.10000000000000
0.00000000000000
712182.55013099301000
246151.19906995021000
