-0.00000000000000
-0.10000000000000
-0.10000000000000
0.00000000000000
712174.55013099301000
247167.19906995021000
