-0.00000000000000
-0.10000000000000
-0.10000000000000
0.00000000000000
712170.55013099301000
247671.19906995021000
