0.00000000000000
0.10000000000000
0.10000000000000
-0.00000000000000
709257.44986900699000
233888.80093004979000
