0.00000000000000
0.10000000000000
0.10000000000000
-0.00000000000000
709265.44986900699000
235483.80093004979000
