0.00000000000000
0.10000000000000
0.10000000000000
-0.00000000000000
709261.44986900699000
238344.80093004979000
