0.00000000000000
0.10000000000000
0.10000000000000
-0.00000000000000
709245.44986900699000
238872.80093004979000
