0.00000000000000
0.10000000000000
0.10000000000000
-0.00000000000000
709233.44986900699000
242535.80093004979000
