0.00000000000000
0.10000000000000
0.10000000000000
-0.00000000000000
709217.44986900699000
248627.80093004979000
